BEGIN:VCALENDAR
VERSION:2.0
PRODID:-//Saskatchewan Firearm&#039;s Safety Training - ECPv6.15.20//NONSGML v1.0//EN
CALSCALE:GREGORIAN
METHOD:PUBLISH
X-WR-CALNAME:Saskatchewan Firearm&#039;s Safety Training
X-ORIGINAL-URL:https://skfirearmsafety.ca
X-WR-CALDESC:Events for Saskatchewan Firearm&#039;s Safety Training
REFRESH-INTERVAL;VALUE=DURATION:PT1H
X-Robots-Tag:noindex
X-PUBLISHED-TTL:PT1H
BEGIN:VTIMEZONE
TZID:America/Regina
BEGIN:STANDARD
TZOFFSETFROM:-0600
TZOFFSETTO:-0600
TZNAME:CST
DTSTART:20250101T000000
END:STANDARD
END:VTIMEZONE
BEGIN:VEVENT
DTSTART;TZID=America/Regina:20260301T080000
DTEND;TZID=America/Regina:20260301T170000
DTSTAMP:20260424T133713
CREATED:20260129T131443Z
LAST-MODIFIED:20260129T131443Z
UID:4553-1772352000-1772384400@skfirearmsafety.ca
SUMMARY:Non-Restricted PAL – March 1\, 2026
DESCRIPTION:
URL:https://skfirearmsafety.ca/course/non-restricted-pal-march-1-2026/
LOCATION:Trinity Safety & Training\, #1-135 Wheeler Street\, Saskatoon\, Saskatchewan\, S7P 0A4\, Canada
CATEGORIES:Non-Restricted PAL
ORGANIZER;CN="Saskatchewan Firearms Safety Training":MAILTO:tim@sksafetyconsulting.ca
END:VEVENT
BEGIN:VEVENT
DTSTART;TZID=America/Regina:20260307T080000
DTEND;TZID=America/Regina:20260307T170000
DTSTAMP:20260424T133713
CREATED:20260129T131647Z
LAST-MODIFIED:20260129T131647Z
UID:4556-1772870400-1772902800@skfirearmsafety.ca
SUMMARY:Non-Restricted PAL – March 7\, 2026
DESCRIPTION:
URL:https://skfirearmsafety.ca/course/non-restricted-pal-march-7-2026/
LOCATION:Trinity Safety & Training\, #1-135 Wheeler Street\, Saskatoon\, Saskatchewan\, S7P 0A4\, Canada
CATEGORIES:Non-Restricted PAL
ORGANIZER;CN="Saskatchewan Firearms Safety Training":MAILTO:tim@sksafetyconsulting.ca
END:VEVENT
BEGIN:VEVENT
DTSTART;TZID=America/Regina:20260308T080000
DTEND;TZID=America/Regina:20260308T140000
DTSTAMP:20260424T133713
CREATED:20260213T145521Z
LAST-MODIFIED:20260213T145521Z
UID:4654-1772956800-1772978400@skfirearmsafety.ca
SUMMARY:Restricted PAL – March 8\, 2026
DESCRIPTION:
URL:https://skfirearmsafety.ca/course/restricted-pal-march-8-2026/
LOCATION:Trinity Safety & Training\, #1-135 Wheeler Street\, Saskatoon\, Saskatchewan\, S7P 0A4\, Canada
CATEGORIES:Restricted PAL
ORGANIZER;CN="Saskatchewan Firearms Safety Training":MAILTO:tim@sksafetyconsulting.ca
END:VEVENT
BEGIN:VEVENT
DTSTART;TZID=America/Regina:20260314T080000
DTEND;TZID=America/Regina:20260314T170000
DTSTAMP:20260424T133713
CREATED:20260213T145721Z
LAST-MODIFIED:20260213T183920Z
UID:4657-1773475200-1773507600@skfirearmsafety.ca
SUMMARY:Non-Restricted PAL – March 14\, 2026
DESCRIPTION:
URL:https://skfirearmsafety.ca/course/non-restricted-pal-march-14-2026/
LOCATION:Trinity Safety & Training\, #1-135 Wheeler Street\, Saskatoon\, Saskatchewan\, S7P 0A4\, Canada
CATEGORIES:Non-Restricted PAL
ORGANIZER;CN="Saskatchewan Firearms Safety Training":MAILTO:tim@sksafetyconsulting.ca
END:VEVENT
BEGIN:VEVENT
DTSTART;TZID=America/Regina:20260315T080000
DTEND;TZID=America/Regina:20260315T170000
DTSTAMP:20260424T133713
CREATED:20260213T150025Z
LAST-MODIFIED:20260213T150025Z
UID:4660-1773561600-1773594000@skfirearmsafety.ca
SUMMARY:Non-Restricted PAL – March 15\, 2026
DESCRIPTION:
URL:https://skfirearmsafety.ca/course/non-restricted-pal-march-15-2026/
LOCATION:Trinity Safety & Training\, #1-135 Wheeler Street\, Saskatoon\, Saskatchewan\, S7P 0A4\, Canada
CATEGORIES:Non-Restricted PAL
ORGANIZER;CN="Saskatchewan Firearms Safety Training":MAILTO:tim@sksafetyconsulting.ca
END:VEVENT
BEGIN:VEVENT
DTSTART;TZID=America/Regina:20260321T080000
DTEND;TZID=America/Regina:20260321T170000
DTSTAMP:20260424T133713
CREATED:20260213T150151Z
LAST-MODIFIED:20260213T150151Z
UID:4663-1774080000-1774112400@skfirearmsafety.ca
SUMMARY:Non-Restricted PAL – March 21\, 2026
DESCRIPTION:
URL:https://skfirearmsafety.ca/course/non-restricted-pal-march-21-2026/
LOCATION:Trinity Safety & Training\, #1-135 Wheeler Street\, Saskatoon\, Saskatchewan\, S7P 0A4\, Canada
CATEGORIES:Non-Restricted PAL
ORGANIZER;CN="Saskatchewan Firearms Safety Training":MAILTO:tim@sksafetyconsulting.ca
END:VEVENT
BEGIN:VEVENT
DTSTART;TZID=America/Regina:20260322T080000
DTEND;TZID=America/Regina:20260322T170000
DTSTAMP:20260424T133713
CREATED:20260213T150325Z
LAST-MODIFIED:20260213T150325Z
UID:4666-1774166400-1774198800@skfirearmsafety.ca
SUMMARY:Non-Restricted PAL – March 22\, 2026
DESCRIPTION:
URL:https://skfirearmsafety.ca/course/non-restricted-pal-march-22-2026/
LOCATION:Trinity Safety & Training\, #1-135 Wheeler Street\, Saskatoon\, Saskatchewan\, S7P 0A4\, Canada
ORGANIZER;CN="Saskatchewan Firearms Safety Training":MAILTO:tim@sksafetyconsulting.ca
END:VEVENT
BEGIN:VEVENT
DTSTART;TZID=America/Regina:20260328T080000
DTEND;TZID=America/Regina:20260328T170000
DTSTAMP:20260424T133713
CREATED:20260213T150446Z
LAST-MODIFIED:20260213T150446Z
UID:4669-1774684800-1774717200@skfirearmsafety.ca
SUMMARY:Non-Restricted PAL – March 28\, 2026
DESCRIPTION:
URL:https://skfirearmsafety.ca/course/non-restricted-pal-march-28-2026/
LOCATION:Trinity Safety & Training\, #1-135 Wheeler Street\, Saskatoon\, Saskatchewan\, S7P 0A4\, Canada
CATEGORIES:Non-Restricted PAL
ORGANIZER;CN="Saskatchewan Firearms Safety Training":MAILTO:tim@sksafetyconsulting.ca
END:VEVENT
BEGIN:VEVENT
DTSTART;TZID=America/Regina:20260329T080000
DTEND;TZID=America/Regina:20260329T170000
DTSTAMP:20260424T133713
CREATED:20260213T150624Z
LAST-MODIFIED:20260213T150624Z
UID:4672-1774771200-1774803600@skfirearmsafety.ca
SUMMARY:Non-Restricted PAL – March 29\, 2026
DESCRIPTION:
URL:https://skfirearmsafety.ca/course/non-restricted-pal-march-29-2026/
LOCATION:Trinity Safety & Training\, #1-135 Wheeler Street\, Saskatoon\, Saskatchewan\, S7P 0A4\, Canada
CATEGORIES:Non-Restricted PAL
ORGANIZER;CN="Saskatchewan Firearms Safety Training":MAILTO:tim@sksafetyconsulting.ca
END:VEVENT
END:VCALENDAR