BEGIN:VCALENDAR
VERSION:2.0
PRODID:-//Saskatchewan Firearm&#039;s Safety Training - ECPv6.15.20//NONSGML v1.0//EN
CALSCALE:GREGORIAN
METHOD:PUBLISH
X-WR-CALNAME:Saskatchewan Firearm&#039;s Safety Training
X-ORIGINAL-URL:https://skfirearmsafety.ca
X-WR-CALDESC:Events for Saskatchewan Firearm&#039;s Safety Training
REFRESH-INTERVAL;VALUE=DURATION:PT1H
X-Robots-Tag:noindex
X-PUBLISHED-TTL:PT1H
BEGIN:VTIMEZONE
TZID:America/Regina
BEGIN:STANDARD
TZOFFSETFROM:-0600
TZOFFSETTO:-0600
TZNAME:CST
DTSTART:20250101T000000
END:STANDARD
END:VTIMEZONE
BEGIN:VEVENT
DTSTART;TZID=America/Regina:20260510T080000
DTEND;TZID=America/Regina:20260510T170000
DTSTAMP:20260424T165912
CREATED:20260407T202550Z
LAST-MODIFIED:20260408T221311Z
UID:5101-1778400000-1778432400@skfirearmsafety.ca
SUMMARY:Restricted PAL – May 10\, 2026
DESCRIPTION:
URL:https://skfirearmsafety.ca/course/restricted-pal-may-10-2026/
LOCATION:Trinity Safety & Training\, #1-135 Wheeler Street\, Saskatoon\, Saskatchewan\, S7P 0A4\, Canada
CATEGORIES:Non-Restricted PAL
ORGANIZER;CN="Saskatchewan Firearms Safety Training":MAILTO:tim@sksafetyconsulting.ca
END:VEVENT
END:VCALENDAR